BEGIN:VCALENDAR

VERSION:2.0

PRODID:-//hacksw/handcal//NONSGML v1.0//EN

BEGIN:VEVENT

UID:eff4a45e5f587e1dc25466cef17f5d81

DTSTAMP:20260423T144717Z

DTSTART:20260509T123000

DTEND:20260509T130000

SUMMARY:R2-5064447 - 36 Reserve Street, Pomona QLD 4568

LOCATION:36 Reserve Street, Pomona QLD 4568

END:VEVENT

END:VCALENDAR