BEGIN:VCALENDAR

VERSION:2.0

PRODID:-//hacksw/handcal//NONSGML v1.0//EN

BEGIN:VEVENT

UID:26ce73cf12be4ea786aeefa89e41729e

DTSTAMP:20260423T145456Z

DTSTART:20260502T123000

DTEND:20260502T130000

SUMMARY:R2-5064447 - 36 Reserve Street, Pomona QLD 4568

LOCATION:36 Reserve Street, Pomona QLD 4568

END:VEVENT

END:VCALENDAR